BEGIN:VCALENDAR
VERSION:2.0
PRODID:-//SLGE - ECPv5.9.0//NONSGML v1.0//EN
CALSCALE:GREGORIAN
METHOD:PUBLISH
X-WR-CALNAME:SLGE
X-ORIGINAL-URL:https://www.slge.org
X-WR-CALDESC:Events for SLGE
BEGIN:VTIMEZONE
TZID:America/Los_Angeles
BEGIN:DAYLIGHT
TZOFFSETFROM:-0800
TZOFFSETTO:-0700
TZNAME:PDT
DTSTART:20200308T100000
END:DAYLIGHT
BEGIN:STANDARD
TZOFFSETFROM:-0700
TZOFFSETTO:-0800
TZNAME:PST
DTSTART:20201101T090000
END:STANDARD
END:VTIMEZONE
BEGIN:VEVENT
DTSTART;TZID=America/Los_Angeles:20200403T130000
DTEND;TZID=America/Los_Angeles:20200403T140000
DTSTAMP:20210914T204007
CREATED:20200310T190438Z
LAST-MODIFIED:20200403T200947Z
UID:10157-1585918800-1585922400@www.slge.org
SUMMARY:Webinar: Public Health Workforce - Current Characteristics and Projected Growth
DESCRIPTION:As the nation faces increased strains on its public health workforce from the COVID-19 outbreak\, this new primer describes the current public health workforce size\, expectations for growth\, employee demographics\, job tenure\, and the skill sets most in demand. This description is offered against the broader backdrop of the overall state and local government sector. \nHow Does the Public Health Workforce Compare with the Broader Public Sector?\, was prepared by SLGE with the support of the de Beaumont Foundation.  Click here to download the webinar slides or click on the image below to view the webinar recording.  For related Q&A\, please see the Twitter chat at #PublicHealthWorkforce.
URL:https://www.slge.org/event/webinar-public-health-workforce-current-characteristics-and-projected-growth
CATEGORIES:Webinar
ATTACH;FMTTYPE=image/png:https://www.slge.org/assets/uploads/2020/03/ph-workforce-webinar-sq.png
END:VEVENT
END:VCALENDAR